BEGIN:VCALENDAR
VERSION:2.0
PRODID:-//Town of Land O&#039; Lakes - ECPv6.15.17.1//NONSGML v1.0//EN
CALSCALE:GREGORIAN
METHOD:PUBLISH
X-WR-CALNAME:Town of Land O&#039; Lakes
X-ORIGINAL-URL:https://landolakeswi.gov
X-WR-CALDESC:Events for Town of Land O&#039; Lakes
REFRESH-INTERVAL;VALUE=DURATION:PT1H
X-Robots-Tag:noindex
X-PUBLISHED-TTL:PT1H
BEGIN:VTIMEZONE
TZID:America/Chicago
BEGIN:DAYLIGHT
TZOFFSETFROM:-0600
TZOFFSETTO:-0500
TZNAME:CDT
DTSTART:20210314T080000
END:DAYLIGHT
BEGIN:STANDARD
TZOFFSETFROM:-0500
TZOFFSETTO:-0600
TZNAME:CST
DTSTART:20211107T070000
END:STANDARD
BEGIN:DAYLIGHT
TZOFFSETFROM:-0600
TZOFFSETTO:-0500
TZNAME:CDT
DTSTART:20220313T080000
END:DAYLIGHT
BEGIN:STANDARD
TZOFFSETFROM:-0500
TZOFFSETTO:-0600
TZNAME:CST
DTSTART:20221106T070000
END:STANDARD
BEGIN:DAYLIGHT
TZOFFSETFROM:-0600
TZOFFSETTO:-0500
TZNAME:CDT
DTSTART:20230312T080000
END:DAYLIGHT
BEGIN:STANDARD
TZOFFSETFROM:-0500
TZOFFSETTO:-0600
TZNAME:CST
DTSTART:20231105T070000
END:STANDARD
END:VTIMEZONE
BEGIN:VEVENT
DTSTART;TZID=America/Chicago:20221115T120000
DTEND;TZID=America/Chicago:20221115T133000
DTSTAMP:20260420T201229
CREATED:20221114T172009Z
LAST-MODIFIED:20221114T172009Z
UID:6964-1668513600-1668519000@landolakeswi.gov
SUMMARY:Sanitary District Budget Hearing
DESCRIPTION:
URL:https://landolakeswi.gov/event/sanitary-district-budget-hearing/
END:VEVENT
END:VCALENDAR