BEGIN:VCALENDAR
VERSION:2.0
PRODID:-//Town of Land O&#039; Lakes - ECPv6.15.17.1//NONSGML v1.0//EN
CALSCALE:GREGORIAN
METHOD:PUBLISH
X-WR-CALNAME:Town of Land O&#039; Lakes
X-ORIGINAL-URL:https://landolakeswi.gov
X-WR-CALDESC:Events for Town of Land O&#039; Lakes
REFRESH-INTERVAL;VALUE=DURATION:PT1H
X-Robots-Tag:noindex
X-PUBLISHED-TTL:PT1H
BEGIN:VTIMEZONE
TZID:America/Chicago
BEGIN:DAYLIGHT
TZOFFSETFROM:-0600
TZOFFSETTO:-0500
TZNAME:CDT
DTSTART:20220313T080000
END:DAYLIGHT
BEGIN:STANDARD
TZOFFSETFROM:-0500
TZOFFSETTO:-0600
TZNAME:CST
DTSTART:20221106T070000
END:STANDARD
BEGIN:DAYLIGHT
TZOFFSETFROM:-0600
TZOFFSETTO:-0500
TZNAME:CDT
DTSTART:20230312T080000
END:DAYLIGHT
BEGIN:STANDARD
TZOFFSETFROM:-0500
TZOFFSETTO:-0600
TZNAME:CST
DTSTART:20231105T070000
END:STANDARD
BEGIN:DAYLIGHT
TZOFFSETFROM:-0600
TZOFFSETTO:-0500
TZNAME:CDT
DTSTART:20240310T080000
END:DAYLIGHT
BEGIN:STANDARD
TZOFFSETFROM:-0500
TZOFFSETTO:-0600
TZNAME:CST
DTSTART:20241103T070000
END:STANDARD
END:VTIMEZONE
BEGIN:VEVENT
DTSTART;TZID=America/Chicago:20230322T180000
DTEND;TZID=America/Chicago:20230322T180000
DTSTAMP:20260421T092903
CREATED:20230228T192725Z
LAST-MODIFIED:20230228T192725Z
UID:7155-1679508000-1679508000@landolakeswi.gov
SUMMARY:Town Board Meeting
DESCRIPTION:The regular Town Board meeting for the month of March will be held on  \nMarch 22\, 2023 at 6pm at the town hall\, 4331 CTH B\, Land O’ Lakes WI 54540. \nIf you require assistance or for any questions\, please call 715-547-3255 or email  \nclerk@landolakeswi.gov
URL:https://landolakeswi.gov/event/town-board-meeting-3/
CATEGORIES:Meeting
END:VEVENT
END:VCALENDAR