BEGIN:VCALENDAR
VERSION:2.0
PRODID:-//Town of Land O&#039; Lakes - ECPv6.15.17.1//NONSGML v1.0//EN
CALSCALE:GREGORIAN
METHOD:PUBLISH
X-WR-CALNAME:Town of Land O&#039; Lakes
X-ORIGINAL-URL:https://landolakeswi.gov
X-WR-CALDESC:Events for Town of Land O&#039; Lakes
REFRESH-INTERVAL;VALUE=DURATION:PT1H
X-Robots-Tag:noindex
X-PUBLISHED-TTL:PT1H
BEGIN:VTIMEZONE
TZID:America/Chicago
BEGIN:DAYLIGHT
TZOFFSETFROM:-0600
TZOFFSETTO:-0500
TZNAME:CDT
DTSTART:20170312T080000
END:DAYLIGHT
BEGIN:STANDARD
TZOFFSETFROM:-0500
TZOFFSETTO:-0600
TZNAME:CST
DTSTART:20171105T070000
END:STANDARD
BEGIN:DAYLIGHT
TZOFFSETFROM:-0600
TZOFFSETTO:-0500
TZNAME:CDT
DTSTART:20180311T080000
END:DAYLIGHT
BEGIN:STANDARD
TZOFFSETFROM:-0500
TZOFFSETTO:-0600
TZNAME:CST
DTSTART:20181104T070000
END:STANDARD
BEGIN:DAYLIGHT
TZOFFSETFROM:-0600
TZOFFSETTO:-0500
TZNAME:CDT
DTSTART:20190310T080000
END:DAYLIGHT
BEGIN:STANDARD
TZOFFSETFROM:-0500
TZOFFSETTO:-0600
TZNAME:CST
DTSTART:20191103T070000
END:STANDARD
END:VTIMEZONE
BEGIN:VEVENT
DTSTART;TZID=America/Chicago:20180220T070000
DTEND;TZID=America/Chicago:20180220T200000
DTSTAMP:20260423T031711
CREATED:20180130T163001Z
LAST-MODIFIED:20180130T163001Z
UID:10000550-1519110000-1519156800@landolakeswi.gov
SUMMARY:Primary Election February 20\, 2018
DESCRIPTION:Primary Election-February 20\, 2018 \n7:00am to 8:00pm \nLand O’ Lakes Town Hall \n4331 CTH B\, Land O’ Lakes WI  54540 \nBring Photo ID to vote
URL:https://landolakeswi.gov/event/primary-election-february-20-2018/
CATEGORIES:Election
END:VEVENT
END:VCALENDAR