BEGIN:VCALENDAR
VERSION:2.0
PRODID:-//Town of Land O&#039; Lakes - ECPv6.15.17.1//NONSGML v1.0//EN
CALSCALE:GREGORIAN
METHOD:PUBLISH
X-WR-CALNAME:Town of Land O&#039; Lakes
X-ORIGINAL-URL:https://landolakeswi.gov
X-WR-CALDESC:Events for Town of Land O&#039; Lakes
REFRESH-INTERVAL;VALUE=DURATION:PT1H
X-Robots-Tag:noindex
X-PUBLISHED-TTL:PT1H
BEGIN:VTIMEZONE
TZID:America/Chicago
BEGIN:DAYLIGHT
TZOFFSETFROM:-0600
TZOFFSETTO:-0500
TZNAME:CDT
DTSTART:20230312T080000
END:DAYLIGHT
BEGIN:STANDARD
TZOFFSETFROM:-0500
TZOFFSETTO:-0600
TZNAME:CST
DTSTART:20231105T070000
END:STANDARD
BEGIN:DAYLIGHT
TZOFFSETFROM:-0600
TZOFFSETTO:-0500
TZNAME:CDT
DTSTART:20240310T080000
END:DAYLIGHT
BEGIN:STANDARD
TZOFFSETFROM:-0500
TZOFFSETTO:-0600
TZNAME:CST
DTSTART:20241103T070000
END:STANDARD
BEGIN:DAYLIGHT
TZOFFSETFROM:-0600
TZOFFSETTO:-0500
TZNAME:CDT
DTSTART:20250309T080000
END:DAYLIGHT
BEGIN:STANDARD
TZOFFSETFROM:-0500
TZOFFSETTO:-0600
TZNAME:CST
DTSTART:20251102T070000
END:STANDARD
END:VTIMEZONE
BEGIN:VEVENT
DTSTART;TZID=America/Chicago:20241120T160000
DTEND;TZID=America/Chicago:20241120T180000
DTSTAMP:20260420T173125
CREATED:20241101T135314Z
LAST-MODIFIED:20241101T135314Z
UID:10000918-1732118400-1732125600@landolakeswi.gov
SUMMARY:Budget Hearing\, Special Town Meeting\, Special Town Board Meeting
DESCRIPTION:
URL:https://landolakeswi.gov/event/budget-hearing-special-town-meeting-special-town-board-meeting/
END:VEVENT
BEGIN:VEVENT
DTSTART;TZID=America/Chicago:20241120T160000
DTEND;TZID=America/Chicago:20241120T180000
DTSTAMP:20260420T173125
CREATED:20241114T194315Z
LAST-MODIFIED:20241114T194315Z
UID:10000922-1732118400-1732125600@landolakeswi.gov
SUMMARY:Budget Hearing\, Special Town Meeting\, Special Town Board Meeting
DESCRIPTION:
URL:https://landolakeswi.gov/event/budget-hearing-special-town-meeting-special-town-board-meeting-2/
END:VEVENT
BEGIN:VEVENT
DTSTART;TZID=America/Chicago:20241120T180000
DTEND;TZID=America/Chicago:20241120T190000
DTSTAMP:20260420T173125
CREATED:20241114T194408Z
LAST-MODIFIED:20241114T194408Z
UID:10000923-1732125600-1732129200@landolakeswi.gov
SUMMARY:Town Board Meeting
DESCRIPTION:
URL:https://landolakeswi.gov/event/town-board-meeting-24/
END:VEVENT
END:VCALENDAR