BEGIN:VCALENDAR
VERSION:2.0
PRODID:-//Town of Land O&#039; Lakes - ECPv6.15.17.1//NONSGML v1.0//EN
CALSCALE:GREGORIAN
METHOD:PUBLISH
X-WR-CALNAME:Town of Land O&#039; Lakes
X-ORIGINAL-URL:https://landolakeswi.gov
X-WR-CALDESC:Events for Town of Land O&#039; Lakes
REFRESH-INTERVAL;VALUE=DURATION:PT1H
X-Robots-Tag:noindex
X-PUBLISHED-TTL:PT1H
BEGIN:VTIMEZONE
TZID:America/Chicago
BEGIN:DAYLIGHT
TZOFFSETFROM:-0600
TZOFFSETTO:-0500
TZNAME:CDT
DTSTART:20240310T080000
END:DAYLIGHT
BEGIN:STANDARD
TZOFFSETFROM:-0500
TZOFFSETTO:-0600
TZNAME:CST
DTSTART:20241103T070000
END:STANDARD
BEGIN:DAYLIGHT
TZOFFSETFROM:-0600
TZOFFSETTO:-0500
TZNAME:CDT
DTSTART:20250309T080000
END:DAYLIGHT
BEGIN:STANDARD
TZOFFSETFROM:-0500
TZOFFSETTO:-0600
TZNAME:CST
DTSTART:20251102T070000
END:STANDARD
BEGIN:DAYLIGHT
TZOFFSETFROM:-0600
TZOFFSETTO:-0500
TZNAME:CDT
DTSTART:20260308T080000
END:DAYLIGHT
BEGIN:STANDARD
TZOFFSETFROM:-0500
TZOFFSETTO:-0600
TZNAME:CST
DTSTART:20261101T070000
END:STANDARD
END:VTIMEZONE
BEGIN:VEVENT
DTSTART;TZID=America/Chicago:20250618T090000
DTEND;TZID=America/Chicago:20250618T110000
DTSTAMP:20260421T193018
CREATED:20250616T174209Z
LAST-MODIFIED:20250616T174209Z
UID:10000963-1750237200-1750244400@landolakeswi.gov
SUMMARY:Library Board Meeting
DESCRIPTION:
URL:https://landolakeswi.gov/event/library-board-meeting-31/
END:VEVENT
BEGIN:VEVENT
DTSTART;TZID=America/Chicago:20250618T173000
DTEND;TZID=America/Chicago:20250618T182800
DTSTAMP:20260421T193018
CREATED:20250602T152843Z
LAST-MODIFIED:20250602T152843Z
UID:10000958-1750267800-1750271280@landolakeswi.gov
SUMMARY:Cisco Chain Lake District Annual Meeting
DESCRIPTION:
URL:https://landolakeswi.gov/event/cisco-chain-lake-district-annual-meeting-2/
END:VEVENT
BEGIN:VEVENT
DTSTART;TZID=America/Chicago:20250618T180000
DTEND;TZID=America/Chicago:20250618T190000
DTSTAMP:20260421T193018
CREATED:20250616T174448Z
LAST-MODIFIED:20250616T174448Z
UID:10000964-1750269600-1750273200@landolakeswi.gov
SUMMARY:Town Board Meeting
DESCRIPTION:
URL:https://landolakeswi.gov/event/town-board-meeting-32/
END:VEVENT
END:VCALENDAR