BEGIN:VCALENDAR
VERSION:2.0
PRODID:-//Town of Land O&#039; Lakes - ECPv6.15.17.1//NONSGML v1.0//EN
CALSCALE:GREGORIAN
METHOD:PUBLISH
X-WR-CALNAME:Town of Land O&#039; Lakes
X-ORIGINAL-URL:https://landolakeswi.gov
X-WR-CALDESC:Events for Town of Land O&#039; Lakes
REFRESH-INTERVAL;VALUE=DURATION:PT1H
X-Robots-Tag:noindex
X-PUBLISHED-TTL:PT1H
BEGIN:VTIMEZONE
TZID:America/Chicago
BEGIN:DAYLIGHT
TZOFFSETFROM:-0600
TZOFFSETTO:-0500
TZNAME:CDT
DTSTART:20200308T080000
END:DAYLIGHT
BEGIN:STANDARD
TZOFFSETFROM:-0500
TZOFFSETTO:-0600
TZNAME:CST
DTSTART:20201101T070000
END:STANDARD
BEGIN:DAYLIGHT
TZOFFSETFROM:-0600
TZOFFSETTO:-0500
TZNAME:CDT
DTSTART:20210314T080000
END:DAYLIGHT
BEGIN:STANDARD
TZOFFSETFROM:-0500
TZOFFSETTO:-0600
TZNAME:CST
DTSTART:20211107T070000
END:STANDARD
BEGIN:DAYLIGHT
TZOFFSETFROM:-0600
TZOFFSETTO:-0500
TZNAME:CDT
DTSTART:20220313T080000
END:DAYLIGHT
BEGIN:STANDARD
TZOFFSETFROM:-0500
TZOFFSETTO:-0600
TZNAME:CST
DTSTART:20221106T070000
END:STANDARD
BEGIN:DAYLIGHT
TZOFFSETFROM:-0600
TZOFFSETTO:-0500
TZNAME:CDT
DTSTART:20230312T080000
END:DAYLIGHT
BEGIN:STANDARD
TZOFFSETFROM:-0500
TZOFFSETTO:-0600
TZNAME:CST
DTSTART:20231105T070000
END:STANDARD
BEGIN:DAYLIGHT
TZOFFSETFROM:-0600
TZOFFSETTO:-0500
TZNAME:CDT
DTSTART:20240310T080000
END:DAYLIGHT
BEGIN:STANDARD
TZOFFSETFROM:-0500
TZOFFSETTO:-0600
TZNAME:CST
DTSTART:20241103T070000
END:STANDARD
BEGIN:DAYLIGHT
TZOFFSETFROM:-0600
TZOFFSETTO:-0500
TZNAME:CDT
DTSTART:20250309T080000
END:DAYLIGHT
BEGIN:STANDARD
TZOFFSETFROM:-0500
TZOFFSETTO:-0600
TZNAME:CST
DTSTART:20251102T070000
END:STANDARD
BEGIN:DAYLIGHT
TZOFFSETFROM:-0600
TZOFFSETTO:-0500
TZNAME:CDT
DTSTART:20260308T080000
END:DAYLIGHT
BEGIN:STANDARD
TZOFFSETFROM:-0500
TZOFFSETTO:-0600
TZNAME:CST
DTSTART:20261101T070000
END:STANDARD
END:VTIMEZONE
BEGIN:VEVENT
DTSTART;TZID=America/Chicago:20210714T110000
DTEND;TZID=America/Chicago:20210714T130000
DTSTAMP:20260425T154606
CREATED:20210513T164554Z
LAST-MODIFIED:20210513T164550Z
UID:10000579-1626260400-1626267600@landolakeswi.gov
SUMMARY:Open Book with Assessor
DESCRIPTION:Bowmar Appraisal will be available on July 14\, 2021 from 11am to 1pm at\nthe Land O’ Lakes Town Hall\, 4331 County Rd B.  The assessment roll will be open for\nexamination at this time and instruction materials will be provided to persons who wish to\nobject to valuations under 70.47 Wis Statutes.
URL:https://landolakeswi.gov/event/open-book-with-assessor/
LOCATION:Town Hall\, 4331 County Rd B\, Land O' Lakes
CATEGORIES:Event
END:VEVENT
BEGIN:VEVENT
DTSTART;TZID=America/Chicago:20210728T120000
DTEND;TZID=America/Chicago:20210728T140000
DTSTAMP:20260425T154606
CREATED:20210513T164923Z
LAST-MODIFIED:20210513T164923Z
UID:10000578-1627473600-1627480800@landolakeswi.gov
SUMMARY:Board of Review
DESCRIPTION:Board of Review will be held July 28\, 2021 from 12:00pm-2:00pm\nat the Town Hall\, 4331 County Rd B.\nTo obtain an objection form contact the Town Clerk at 715-547-3255.
URL:https://landolakeswi.gov/event/board-of-review-5/
CATEGORIES:Event
END:VEVENT
BEGIN:VEVENT
DTSTART;TZID=America/Chicago:20220215T070000
DTEND;TZID=America/Chicago:20220215T200000
DTSTAMP:20260425T154606
CREATED:20220119T164402Z
LAST-MODIFIED:20220126T222213Z
UID:10000577-1644908400-1644955200@landolakeswi.gov
SUMMARY:Spring Primary Election
DESCRIPTION:Voting Hours 7am-8pm at Land O’ Lakes Town Hall.
URL:https://landolakeswi.gov/event/spring-primary-election-4/
CATEGORIES:Event
END:VEVENT
BEGIN:VEVENT
DTSTART;TZID=America/Chicago:20220628T133000
DTEND;TZID=America/Chicago:20220628T153000
DTSTAMP:20260425T154606
CREATED:20220427T182608Z
LAST-MODIFIED:20220427T182608Z
UID:10000575-1656423000-1656430200@landolakeswi.gov
SUMMARY:Open Book with Assessor
DESCRIPTION:Open Book with Bowmar Appraisal \n4331 CTH B\, Town Hall \nLand O’ Lakes WI 54540
URL:https://landolakeswi.gov/event/open-book-with-assessor-2/
CATEGORIES:Event
END:VEVENT
BEGIN:VEVENT
DTSTART;TZID=America/Chicago:20230502T170000
DTEND;TZID=America/Chicago:20230502T190000
DTSTAMP:20260425T154606
CREATED:20230502T202014Z
LAST-MODIFIED:20230502T202014Z
UID:10000514-1683046800-1683054000@landolakeswi.gov
SUMMARY:American Legion Meeting
DESCRIPTION:
URL:https://landolakeswi.gov/event/american-legion-meeting/2023-05-02/
CATEGORIES:Event
END:VEVENT
BEGIN:VEVENT
DTSTART;TZID=America/Chicago:20230511T170000
DTEND;TZID=America/Chicago:20230511T190000
DTSTAMP:20260425T154606
CREATED:20230502T202014Z
LAST-MODIFIED:20230502T202014Z
UID:10000515-1683824400-1683831600@landolakeswi.gov
SUMMARY:American Legion Meeting
DESCRIPTION:
URL:https://landolakeswi.gov/event/american-legion-meeting/2023-05-11/
CATEGORIES:Event
END:VEVENT
BEGIN:VEVENT
DTSTART;TZID=America/Chicago:20230608T170000
DTEND;TZID=America/Chicago:20230608T190000
DTSTAMP:20260425T154606
CREATED:20230502T202014Z
LAST-MODIFIED:20230502T202014Z
UID:10000516-1686243600-1686250800@landolakeswi.gov
SUMMARY:American Legion Meeting
DESCRIPTION:
URL:https://landolakeswi.gov/event/american-legion-meeting/2023-06-08/
CATEGORIES:Event
END:VEVENT
BEGIN:VEVENT
DTSTART;TZID=America/Chicago:20230713T170000
DTEND;TZID=America/Chicago:20230713T190000
DTSTAMP:20260425T154606
CREATED:20230502T202014Z
LAST-MODIFIED:20230502T202014Z
UID:10000517-1689267600-1689274800@landolakeswi.gov
SUMMARY:American Legion Meeting
DESCRIPTION:
URL:https://landolakeswi.gov/event/american-legion-meeting/2023-07-13/
CATEGORIES:Event
END:VEVENT
BEGIN:VEVENT
DTSTART;TZID=America/Chicago:20230810T170000
DTEND;TZID=America/Chicago:20230810T190000
DTSTAMP:20260425T154606
CREATED:20230502T202014Z
LAST-MODIFIED:20230502T202014Z
UID:10000518-1691686800-1691694000@landolakeswi.gov
SUMMARY:American Legion Meeting
DESCRIPTION:
URL:https://landolakeswi.gov/event/american-legion-meeting/2023-08-10/
CATEGORIES:Event
END:VEVENT
BEGIN:VEVENT
DTSTART;TZID=America/Chicago:20230914T170000
DTEND;TZID=America/Chicago:20230914T190000
DTSTAMP:20260425T154606
CREATED:20230502T202014Z
LAST-MODIFIED:20230502T202014Z
UID:10000519-1694710800-1694718000@landolakeswi.gov
SUMMARY:American Legion Meeting
DESCRIPTION:
URL:https://landolakeswi.gov/event/american-legion-meeting/2023-09-14/
CATEGORIES:Event
END:VEVENT
BEGIN:VEVENT
DTSTART;TZID=America/Chicago:20231012T170000
DTEND;TZID=America/Chicago:20231012T190000
DTSTAMP:20260425T154606
CREATED:20230502T202014Z
LAST-MODIFIED:20230502T202014Z
UID:10000520-1697130000-1697137200@landolakeswi.gov
SUMMARY:American Legion Meeting
DESCRIPTION:
URL:https://landolakeswi.gov/event/american-legion-meeting/2023-10-12/
CATEGORIES:Event
END:VEVENT
BEGIN:VEVENT
DTSTART;TZID=America/Chicago:20231109T170000
DTEND;TZID=America/Chicago:20231109T190000
DTSTAMP:20260425T154606
CREATED:20230502T202014Z
LAST-MODIFIED:20230502T202014Z
UID:10000521-1699549200-1699556400@landolakeswi.gov
SUMMARY:American Legion Meeting
DESCRIPTION:
URL:https://landolakeswi.gov/event/american-legion-meeting/2023-11-09/
CATEGORIES:Event
END:VEVENT
BEGIN:VEVENT
DTSTART;TZID=America/Chicago:20231214T170000
DTEND;TZID=America/Chicago:20231214T190000
DTSTAMP:20260425T154606
CREATED:20230502T202014Z
LAST-MODIFIED:20230502T202014Z
UID:10000522-1702573200-1702580400@landolakeswi.gov
SUMMARY:American Legion Meeting
DESCRIPTION:
URL:https://landolakeswi.gov/event/american-legion-meeting/2023-12-14/
CATEGORIES:Event
END:VEVENT
BEGIN:VEVENT
DTSTART;TZID=America/Chicago:20240111T170000
DTEND;TZID=America/Chicago:20240111T190000
DTSTAMP:20260425T154606
CREATED:20230502T202014Z
LAST-MODIFIED:20230502T202014Z
UID:10000523-1704992400-1704999600@landolakeswi.gov
SUMMARY:American Legion Meeting
DESCRIPTION:
URL:https://landolakeswi.gov/event/american-legion-meeting/2024-01-11/
CATEGORIES:Event
END:VEVENT
BEGIN:VEVENT
DTSTART;TZID=America/Chicago:20240208T170000
DTEND;TZID=America/Chicago:20240208T190000
DTSTAMP:20260425T154606
CREATED:20230502T202014Z
LAST-MODIFIED:20230502T202014Z
UID:10000524-1707411600-1707418800@landolakeswi.gov
SUMMARY:American Legion Meeting
DESCRIPTION:
URL:https://landolakeswi.gov/event/american-legion-meeting/2024-02-08/
CATEGORIES:Event
END:VEVENT
BEGIN:VEVENT
DTSTART;TZID=America/Chicago:20240314T170000
DTEND;TZID=America/Chicago:20240314T190000
DTSTAMP:20260425T154606
CREATED:20230502T202014Z
LAST-MODIFIED:20230502T202014Z
UID:10000525-1710435600-1710442800@landolakeswi.gov
SUMMARY:American Legion Meeting
DESCRIPTION:
URL:https://landolakeswi.gov/event/american-legion-meeting/2024-03-14/
CATEGORIES:Event
END:VEVENT
BEGIN:VEVENT
DTSTART;TZID=America/Chicago:20240411T170000
DTEND;TZID=America/Chicago:20240411T190000
DTSTAMP:20260425T154606
CREATED:20230502T202014Z
LAST-MODIFIED:20230502T202014Z
UID:10000526-1712854800-1712862000@landolakeswi.gov
SUMMARY:American Legion Meeting
DESCRIPTION:
URL:https://landolakeswi.gov/event/american-legion-meeting/2024-04-11/
CATEGORIES:Event
END:VEVENT
BEGIN:VEVENT
DTSTART;TZID=America/Chicago:20240509T170000
DTEND;TZID=America/Chicago:20240509T190000
DTSTAMP:20260425T154606
CREATED:20230502T202014Z
LAST-MODIFIED:20230502T202014Z
UID:10000527-1715274000-1715281200@landolakeswi.gov
SUMMARY:American Legion Meeting
DESCRIPTION:
URL:https://landolakeswi.gov/event/american-legion-meeting/2024-05-09/
CATEGORIES:Event
END:VEVENT
BEGIN:VEVENT
DTSTART;TZID=America/Chicago:20240613T170000
DTEND;TZID=America/Chicago:20240613T190000
DTSTAMP:20260425T154606
CREATED:20230502T202014Z
LAST-MODIFIED:20230502T202014Z
UID:10000528-1718298000-1718305200@landolakeswi.gov
SUMMARY:American Legion Meeting
DESCRIPTION:
URL:https://landolakeswi.gov/event/american-legion-meeting/2024-06-13/
CATEGORIES:Event
END:VEVENT
BEGIN:VEVENT
DTSTART;TZID=America/Chicago:20240711T170000
DTEND;TZID=America/Chicago:20240711T190000
DTSTAMP:20260425T154606
CREATED:20230502T202014Z
LAST-MODIFIED:20230502T202014Z
UID:10000529-1720717200-1720724400@landolakeswi.gov
SUMMARY:American Legion Meeting
DESCRIPTION:
URL:https://landolakeswi.gov/event/american-legion-meeting/2024-07-11/
CATEGORIES:Event
END:VEVENT
BEGIN:VEVENT
DTSTART;TZID=America/Chicago:20240808T170000
DTEND;TZID=America/Chicago:20240808T190000
DTSTAMP:20260425T154606
CREATED:20230502T202014Z
LAST-MODIFIED:20230502T202014Z
UID:10000530-1723136400-1723143600@landolakeswi.gov
SUMMARY:American Legion Meeting
DESCRIPTION:
URL:https://landolakeswi.gov/event/american-legion-meeting/2024-08-08/
CATEGORIES:Event
END:VEVENT
BEGIN:VEVENT
DTSTART;TZID=America/Chicago:20240912T170000
DTEND;TZID=America/Chicago:20240912T190000
DTSTAMP:20260425T154606
CREATED:20230502T202014Z
LAST-MODIFIED:20230502T202014Z
UID:10000531-1726160400-1726167600@landolakeswi.gov
SUMMARY:American Legion Meeting
DESCRIPTION:
URL:https://landolakeswi.gov/event/american-legion-meeting/2024-09-12/
CATEGORIES:Event
END:VEVENT
BEGIN:VEVENT
DTSTART;TZID=America/Chicago:20241010T170000
DTEND;TZID=America/Chicago:20241010T190000
DTSTAMP:20260425T154606
CREATED:20230502T202014Z
LAST-MODIFIED:20230502T202014Z
UID:10000532-1728579600-1728586800@landolakeswi.gov
SUMMARY:American Legion Meeting
DESCRIPTION:
URL:https://landolakeswi.gov/event/american-legion-meeting/2024-10-10/
CATEGORIES:Event
END:VEVENT
BEGIN:VEVENT
DTSTART;TZID=America/Chicago:20241114T170000
DTEND;TZID=America/Chicago:20241114T190000
DTSTAMP:20260425T154606
CREATED:20230502T202014Z
LAST-MODIFIED:20230502T202014Z
UID:10000533-1731603600-1731610800@landolakeswi.gov
SUMMARY:American Legion Meeting
DESCRIPTION:
URL:https://landolakeswi.gov/event/american-legion-meeting/2024-11-14/
CATEGORIES:Event
END:VEVENT
BEGIN:VEVENT
DTSTART;TZID=America/Chicago:20241212T170000
DTEND;TZID=America/Chicago:20241212T190000
DTSTAMP:20260425T154606
CREATED:20230502T202014Z
LAST-MODIFIED:20230502T202014Z
UID:10000534-1734022800-1734030000@landolakeswi.gov
SUMMARY:American Legion Meeting
DESCRIPTION:
URL:https://landolakeswi.gov/event/american-legion-meeting/2024-12-12/
CATEGORIES:Event
END:VEVENT
BEGIN:VEVENT
DTSTART;TZID=America/Chicago:20250109T170000
DTEND;TZID=America/Chicago:20250109T190000
DTSTAMP:20260425T154606
CREATED:20230502T202014Z
LAST-MODIFIED:20230502T202014Z
UID:10000535-1736442000-1736449200@landolakeswi.gov
SUMMARY:American Legion Meeting
DESCRIPTION:
URL:https://landolakeswi.gov/event/american-legion-meeting/2025-01-09/
CATEGORIES:Event
END:VEVENT
BEGIN:VEVENT
DTSTART;TZID=America/Chicago:20250213T170000
DTEND;TZID=America/Chicago:20250213T190000
DTSTAMP:20260425T154606
CREATED:20230502T202014Z
LAST-MODIFIED:20230502T202014Z
UID:10000536-1739466000-1739473200@landolakeswi.gov
SUMMARY:American Legion Meeting
DESCRIPTION:
URL:https://landolakeswi.gov/event/american-legion-meeting/2025-02-13/
CATEGORIES:Event
END:VEVENT
BEGIN:VEVENT
DTSTART;TZID=America/Chicago:20250313T170000
DTEND;TZID=America/Chicago:20250313T190000
DTSTAMP:20260425T154606
CREATED:20230502T202014Z
LAST-MODIFIED:20230502T202014Z
UID:10000537-1741885200-1741892400@landolakeswi.gov
SUMMARY:American Legion Meeting
DESCRIPTION:
URL:https://landolakeswi.gov/event/american-legion-meeting/2025-03-13/
CATEGORIES:Event
END:VEVENT
BEGIN:VEVENT
DTSTART;TZID=America/Chicago:20250410T170000
DTEND;TZID=America/Chicago:20250410T190000
DTSTAMP:20260425T154606
CREATED:20230502T202014Z
LAST-MODIFIED:20230502T202014Z
UID:10000538-1744304400-1744311600@landolakeswi.gov
SUMMARY:American Legion Meeting
DESCRIPTION:
URL:https://landolakeswi.gov/event/american-legion-meeting/2025-04-10/
CATEGORIES:Event
END:VEVENT
END:VCALENDAR