BEGIN:VCALENDAR
VERSION:2.0
PRODID:-//Town of Land O&#039; Lakes - ECPv6.15.17.1//NONSGML v1.0//EN
CALSCALE:GREGORIAN
METHOD:PUBLISH
X-WR-CALNAME:Town of Land O&#039; Lakes
X-ORIGINAL-URL:https://landolakeswi.gov
X-WR-CALDESC:Events for Town of Land O&#039; Lakes
REFRESH-INTERVAL;VALUE=DURATION:PT1H
X-Robots-Tag:noindex
X-PUBLISHED-TTL:PT1H
BEGIN:VTIMEZONE
TZID:America/Chicago
BEGIN:DAYLIGHT
TZOFFSETFROM:-0600
TZOFFSETTO:-0500
TZNAME:CDT
DTSTART:20220313T080000
END:DAYLIGHT
BEGIN:STANDARD
TZOFFSETFROM:-0500
TZOFFSETTO:-0600
TZNAME:CST
DTSTART:20221106T070000
END:STANDARD
BEGIN:DAYLIGHT
TZOFFSETFROM:-0600
TZOFFSETTO:-0500
TZNAME:CDT
DTSTART:20230312T080000
END:DAYLIGHT
BEGIN:STANDARD
TZOFFSETFROM:-0500
TZOFFSETTO:-0600
TZNAME:CST
DTSTART:20231105T070000
END:STANDARD
BEGIN:DAYLIGHT
TZOFFSETFROM:-0600
TZOFFSETTO:-0500
TZNAME:CDT
DTSTART:20240310T080000
END:DAYLIGHT
BEGIN:STANDARD
TZOFFSETFROM:-0500
TZOFFSETTO:-0600
TZNAME:CST
DTSTART:20241103T070000
END:STANDARD
END:VTIMEZONE
BEGIN:VEVENT
DTSTART;TZID=America/Chicago:20230608T170000
DTEND;TZID=America/Chicago:20230608T190000
DTSTAMP:20260422T221854
CREATED:20230502T202014Z
LAST-MODIFIED:20230502T202014Z
UID:10000516-1686243600-1686250800@landolakeswi.gov
SUMMARY:American Legion Meeting
DESCRIPTION:
URL:https://landolakeswi.gov/event/american-legion-meeting/2023-06-08/
CATEGORIES:Event
END:VEVENT
BEGIN:VEVENT
DTSTART;TZID=America/Chicago:20230609T160000
DTEND;TZID=America/Chicago:20230609T170000
DTSTAMP:20260422T221854
CREATED:20230605T162943Z
LAST-MODIFIED:20230605T162943Z
UID:10000694-1686326400-1686330000@landolakeswi.gov
SUMMARY:Airport Commission Meeting
DESCRIPTION:
URL:https://landolakeswi.gov/event/airport-commission-meeting-4/
END:VEVENT
BEGIN:VEVENT
DTSTART;TZID=America/Chicago:20230613T120000
DTEND;TZID=America/Chicago:20230613T123000
DTSTAMP:20260422T221854
CREATED:20230607T160754Z
LAST-MODIFIED:20230607T160754Z
UID:10000697-1686657600-1686659400@landolakeswi.gov
SUMMARY:Sanitary District Meeting
DESCRIPTION:
URL:https://landolakeswi.gov/event/sanitary-district-meeting-19/
END:VEVENT
BEGIN:VEVENT
DTSTART;TZID=America/Chicago:20230613T160000
DTEND;TZID=America/Chicago:20230613T170000
DTSTAMP:20260422T221854
CREATED:20230607T181955Z
LAST-MODIFIED:20230607T181955Z
UID:10000698-1686672000-1686675600@landolakeswi.gov
SUMMARY:Plan Commission Meeting
DESCRIPTION:
URL:https://landolakeswi.gov/event/plan-commission-meeting-12/
END:VEVENT
BEGIN:VEVENT
DTSTART;TZID=America/Chicago:20230614T080000
DTEND;TZID=America/Chicago:20230614T090000
DTSTAMP:20260422T221854
CREATED:20230612T153548Z
LAST-MODIFIED:20230612T153548Z
UID:10000700-1686729600-1686733200@landolakeswi.gov
SUMMARY:Library Board Meeting
DESCRIPTION:
URL:https://landolakeswi.gov/event/library-board-meeting-9/
END:VEVENT
BEGIN:VEVENT
DTSTART;TZID=America/Chicago:20230614T110000
DTEND;TZID=America/Chicago:20230614T120000
DTSTAMP:20260422T221854
CREATED:20230613T150744Z
LAST-MODIFIED:20230613T150744Z
UID:10000701-1686740400-1686744000@landolakeswi.gov
SUMMARY:Beautification Meeting
DESCRIPTION:
URL:https://landolakeswi.gov/event/beautification-meeting/
END:VEVENT
BEGIN:VEVENT
DTSTART;TZID=America/Chicago:20230614T140000
DTEND;TZID=America/Chicago:20230614T143000
DTSTAMP:20260422T221854
CREATED:20230606T190351Z
LAST-MODIFIED:20230606T190351Z
UID:10000695-1686751200-1686753000@landolakeswi.gov
SUMMARY:Cisco Chain Lake District
DESCRIPTION:
URL:https://landolakeswi.gov/event/cisco-chain-lake-district/
END:VEVENT
BEGIN:VEVENT
DTSTART;TZID=America/Chicago:20230614T180000
DTEND;TZID=America/Chicago:20230614T190000
DTSTAMP:20260422T221854
CREATED:20230612T153322Z
LAST-MODIFIED:20230612T153322Z
UID:10000699-1686765600-1686769200@landolakeswi.gov
SUMMARY:Town Board Meeting
DESCRIPTION:
URL:https://landolakeswi.gov/event/town-board-meeting-8/
END:VEVENT
BEGIN:VEVENT
DTSTART;TZID=America/Chicago:20230626T143000
DTEND;TZID=America/Chicago:20230626T163000
DTSTAMP:20260422T221854
CREATED:20230502T225446Z
LAST-MODIFIED:20230502T225446Z
UID:10000541-1687789800-1687797000@landolakeswi.gov
SUMMARY:Open Book with Assessor
DESCRIPTION:
URL:https://landolakeswi.gov/event/open-book-with-assessor-3/
CATEGORIES:Meeting
END:VEVENT
END:VCALENDAR