BEGIN:VCALENDAR
VERSION:2.0
PRODID:-//Town of Land O&#039; Lakes - ECPv6.15.17.1//NONSGML v1.0//EN
CALSCALE:GREGORIAN
METHOD:PUBLISH
X-WR-CALNAME:Town of Land O&#039; Lakes
X-ORIGINAL-URL:https://landolakeswi.gov
X-WR-CALDESC:Events for Town of Land O&#039; Lakes
REFRESH-INTERVAL;VALUE=DURATION:PT1H
X-Robots-Tag:noindex
X-PUBLISHED-TTL:PT1H
BEGIN:VTIMEZONE
TZID:America/Chicago
BEGIN:DAYLIGHT
TZOFFSETFROM:-0600
TZOFFSETTO:-0500
TZNAME:CDT
DTSTART:20230312T080000
END:DAYLIGHT
BEGIN:STANDARD
TZOFFSETFROM:-0500
TZOFFSETTO:-0600
TZNAME:CST
DTSTART:20231105T070000
END:STANDARD
BEGIN:DAYLIGHT
TZOFFSETFROM:-0600
TZOFFSETTO:-0500
TZNAME:CDT
DTSTART:20240310T080000
END:DAYLIGHT
BEGIN:STANDARD
TZOFFSETFROM:-0500
TZOFFSETTO:-0600
TZNAME:CST
DTSTART:20241103T070000
END:STANDARD
BEGIN:DAYLIGHT
TZOFFSETFROM:-0600
TZOFFSETTO:-0500
TZNAME:CDT
DTSTART:20250309T080000
END:DAYLIGHT
BEGIN:STANDARD
TZOFFSETFROM:-0500
TZOFFSETTO:-0600
TZNAME:CST
DTSTART:20251102T070000
END:STANDARD
END:VTIMEZONE
BEGIN:VEVENT
DTSTART;TZID=America/Chicago:20240312T160000
DTEND;TZID=America/Chicago:20240312T170000
DTSTAMP:20260420T220836
CREATED:20240307T193442Z
LAST-MODIFIED:20240307T193442Z
UID:10000774-1710259200-1710262800@landolakeswi.gov
SUMMARY:Plan Commission Meeting
DESCRIPTION:
URL:https://landolakeswi.gov/event/plan-commission-meeting-20/
END:VEVENT
BEGIN:VEVENT
DTSTART;TZID=America/Chicago:20240312T173000
DTEND;TZID=America/Chicago:20240312T183000
DTSTAMP:20260420T220836
CREATED:20240215T173919Z
LAST-MODIFIED:20240215T173919Z
UID:10000772-1710264600-1710268200@landolakeswi.gov
SUMMARY:Economic Development Committee Meeting
DESCRIPTION:
URL:https://landolakeswi.gov/event/economic-development-committee-meeting-12/
END:VEVENT
BEGIN:VEVENT
DTSTART;TZID=America/Chicago:20240314T170000
DTEND;TZID=America/Chicago:20240314T190000
DTSTAMP:20260420T220836
CREATED:20230502T202014Z
LAST-MODIFIED:20230502T202014Z
UID:10000525-1710435600-1710442800@landolakeswi.gov
SUMMARY:American Legion Meeting
DESCRIPTION:
URL:https://landolakeswi.gov/event/american-legion-meeting/2024-03-14/
CATEGORIES:Event
END:VEVENT
BEGIN:VEVENT
DTSTART;TZID=America/Chicago:20240320T180000
DTEND;TZID=America/Chicago:20240320T190000
DTSTAMP:20260420T220836
CREATED:20240318T154230Z
LAST-MODIFIED:20240318T154230Z
UID:10000775-1710957600-1710961200@landolakeswi.gov
SUMMARY:Town Board Meeting
DESCRIPTION:
URL:https://landolakeswi.gov/event/town-board-meeting-16/
END:VEVENT
BEGIN:VEVENT
DTSTART;TZID=America/Chicago:20240325T120000
DTEND;TZID=America/Chicago:20240325T130000
DTSTAMP:20260420T220836
CREATED:20240320T211204Z
LAST-MODIFIED:20240320T211204Z
UID:10000776-1711368000-1711371600@landolakeswi.gov
SUMMARY:Special Library Board Meeting
DESCRIPTION:
URL:https://landolakeswi.gov/event/special-library-board-meeting/
END:VEVENT
BEGIN:VEVENT
DTSTART;TZID=America/Chicago:20240326T160000
DTEND;TZID=America/Chicago:20240326T170000
DTSTAMP:20260420T220836
CREATED:20240321T143644Z
LAST-MODIFIED:20240321T143644Z
UID:10000777-1711468800-1711472400@landolakeswi.gov
SUMMARY:Special Plan Commission Meeting
DESCRIPTION:
URL:https://landolakeswi.gov/event/special-plan-commission-meeting/
END:VEVENT
END:VCALENDAR