BEGIN:VCALENDAR
VERSION:2.0
PRODID:-//Town of Land O&#039; Lakes - ECPv6.15.17.1//NONSGML v1.0//EN
CALSCALE:GREGORIAN
METHOD:PUBLISH
X-WR-CALNAME:Town of Land O&#039; Lakes
X-ORIGINAL-URL:https://landolakeswi.gov
X-WR-CALDESC:Events for Town of Land O&#039; Lakes
REFRESH-INTERVAL;VALUE=DURATION:PT1H
X-Robots-Tag:noindex
X-PUBLISHED-TTL:PT1H
BEGIN:VTIMEZONE
TZID:America/Chicago
BEGIN:DAYLIGHT
TZOFFSETFROM:-0600
TZOFFSETTO:-0500
TZNAME:CDT
DTSTART:20230312T080000
END:DAYLIGHT
BEGIN:STANDARD
TZOFFSETFROM:-0500
TZOFFSETTO:-0600
TZNAME:CST
DTSTART:20231105T070000
END:STANDARD
BEGIN:DAYLIGHT
TZOFFSETFROM:-0600
TZOFFSETTO:-0500
TZNAME:CDT
DTSTART:20240310T080000
END:DAYLIGHT
BEGIN:STANDARD
TZOFFSETFROM:-0500
TZOFFSETTO:-0600
TZNAME:CST
DTSTART:20241103T070000
END:STANDARD
BEGIN:DAYLIGHT
TZOFFSETFROM:-0600
TZOFFSETTO:-0500
TZNAME:CDT
DTSTART:20250309T080000
END:DAYLIGHT
BEGIN:STANDARD
TZOFFSETFROM:-0500
TZOFFSETTO:-0600
TZNAME:CST
DTSTART:20251102T070000
END:STANDARD
END:VTIMEZONE
BEGIN:VEVENT
DTSTART;TZID=America/Chicago:20240508T080000
DTEND;TZID=America/Chicago:20240508T090000
DTSTAMP:20260420T053209
CREATED:20240506T184933Z
LAST-MODIFIED:20240506T184933Z
UID:10000871-1715155200-1715158800@landolakeswi.gov
SUMMARY:Library Board Meeting
DESCRIPTION:
URL:https://landolakeswi.gov/event/library-board-meeting-18/
END:VEVENT
BEGIN:VEVENT
DTSTART;TZID=America/Chicago:20240508T110000
DTEND;TZID=America/Chicago:20240508T142400
DTSTAMP:20260420T053209
CREATED:20240506T162530Z
LAST-MODIFIED:20240506T162530Z
UID:10000869-1715166000-1715178240@landolakeswi.gov
SUMMARY:Beautification Meeting
DESCRIPTION:
URL:https://landolakeswi.gov/event/beautification-meeting-6/
END:VEVENT
BEGIN:VEVENT
DTSTART;TZID=America/Chicago:20240508T112200
DTEND;TZID=America/Chicago:20240508T142400
DTSTAMP:20260420T053209
CREATED:20240506T162441Z
LAST-MODIFIED:20240506T162441Z
UID:10000868-1715167320-1715178240@landolakeswi.gov
SUMMARY:Beautification Meeting
DESCRIPTION:
URL:https://landolakeswi.gov/event/beautification-meeting-5/
END:VEVENT
BEGIN:VEVENT
DTSTART;TZID=America/Chicago:20240508T120000
DTEND;TZID=America/Chicago:20240508T130000
DTSTAMP:20260420T053209
CREATED:20240506T180405Z
LAST-MODIFIED:20240506T180405Z
UID:10000870-1715169600-1715173200@landolakeswi.gov
SUMMARY:Special Town Board Meeting
DESCRIPTION:
URL:https://landolakeswi.gov/event/special-town-board-meeting-5/
END:VEVENT
BEGIN:VEVENT
DTSTART;TZID=America/Chicago:20240509T170000
DTEND;TZID=America/Chicago:20240509T190000
DTSTAMP:20260420T053209
CREATED:20230502T202014Z
LAST-MODIFIED:20230502T202014Z
UID:10000527-1715274000-1715281200@landolakeswi.gov
SUMMARY:American Legion Meeting
DESCRIPTION:
URL:https://landolakeswi.gov/event/american-legion-meeting/2024-05-09/
CATEGORIES:Event
END:VEVENT
BEGIN:VEVENT
DTSTART;TZID=America/Chicago:20240515T180000
DTEND;TZID=America/Chicago:20240515T190000
DTSTAMP:20260420T053209
CREATED:20240509T185807Z
LAST-MODIFIED:20240509T185807Z
UID:10000873-1715796000-1715799600@landolakeswi.gov
SUMMARY:Town Board Meeting
DESCRIPTION:
URL:https://landolakeswi.gov/event/town-board-meeting-12/
END:VEVENT
BEGIN:VEVENT
DTSTART;TZID=America/Chicago:20240515T180000
DTEND;TZID=America/Chicago:20240515T190000
DTSTAMP:20260420T053209
CREATED:20240509T190227Z
LAST-MODIFIED:20240509T190227Z
UID:10000874-1715796000-1715799600@landolakeswi.gov
SUMMARY:Town Board Meeting
DESCRIPTION:
URL:https://landolakeswi.gov/event/town-board-meeting-17/
END:VEVENT
BEGIN:VEVENT
DTSTART;TZID=America/Chicago:20240521T120000
DTEND;TZID=America/Chicago:20240521T130000
DTSTAMP:20260420T053209
CREATED:20240516T183802Z
LAST-MODIFIED:20240516T183802Z
UID:10000875-1716292800-1716296400@landolakeswi.gov
SUMMARY:Sanitary District Meeting
DESCRIPTION:
URL:https://landolakeswi.gov/event/sanitary-district-meeting-25/
END:VEVENT
BEGIN:VEVENT
DTSTART;TZID=America/Chicago:20240522T110000
DTEND;TZID=America/Chicago:20240522T113000
DTSTAMP:20260420T053209
CREATED:20240520T152846Z
LAST-MODIFIED:20240520T152846Z
UID:10000878-1716375600-1716377400@landolakeswi.gov
SUMMARY:Special Town Board Meeting
DESCRIPTION:
URL:https://landolakeswi.gov/event/special-town-board-meeting-6/
END:VEVENT
END:VCALENDAR