BEGIN:VCALENDAR
VERSION:2.0
PRODID:-//Town of Land O&#039; Lakes - ECPv6.15.17.1//NONSGML v1.0//EN
CALSCALE:GREGORIAN
METHOD:PUBLISH
X-WR-CALNAME:Town of Land O&#039; Lakes
X-ORIGINAL-URL:https://landolakeswi.gov
X-WR-CALDESC:Events for Town of Land O&#039; Lakes
REFRESH-INTERVAL;VALUE=DURATION:PT1H
X-Robots-Tag:noindex
X-PUBLISHED-TTL:PT1H
BEGIN:VTIMEZONE
TZID:America/Chicago
BEGIN:DAYLIGHT
TZOFFSETFROM:-0600
TZOFFSETTO:-0500
TZNAME:CDT
DTSTART:20240310T080000
END:DAYLIGHT
BEGIN:STANDARD
TZOFFSETFROM:-0500
TZOFFSETTO:-0600
TZNAME:CST
DTSTART:20241103T070000
END:STANDARD
BEGIN:DAYLIGHT
TZOFFSETFROM:-0600
TZOFFSETTO:-0500
TZNAME:CDT
DTSTART:20250309T080000
END:DAYLIGHT
BEGIN:STANDARD
TZOFFSETFROM:-0500
TZOFFSETTO:-0600
TZNAME:CST
DTSTART:20251102T070000
END:STANDARD
BEGIN:DAYLIGHT
TZOFFSETFROM:-0600
TZOFFSETTO:-0500
TZNAME:CDT
DTSTART:20260308T080000
END:DAYLIGHT
BEGIN:STANDARD
TZOFFSETFROM:-0500
TZOFFSETTO:-0600
TZNAME:CST
DTSTART:20261101T070000
END:STANDARD
END:VTIMEZONE
BEGIN:VEVENT
DTSTART;TZID=America/Chicago:20250408T161500
DTEND;TZID=America/Chicago:20250408T173000
DTSTAMP:20260421T170301
CREATED:20250403T164257Z
LAST-MODIFIED:20250403T164257Z
UID:10000946-1744128900-1744133400@landolakeswi.gov
SUMMARY:Plan Commission Meeting
DESCRIPTION:
URL:https://landolakeswi.gov/event/plan-commission-meeting-30/
END:VEVENT
BEGIN:VEVENT
DTSTART;TZID=America/Chicago:20250409T090000
DTEND;TZID=America/Chicago:20250409T110000
DTSTAMP:20260421T170301
CREATED:20250403T163743Z
LAST-MODIFIED:20250403T163743Z
UID:10000944-1744189200-1744196400@landolakeswi.gov
SUMMARY:Library Board Meeting
DESCRIPTION:
URL:https://landolakeswi.gov/event/library-board-meeting-28/
END:VEVENT
BEGIN:VEVENT
DTSTART;TZID=America/Chicago:20250409T090000
DTEND;TZID=America/Chicago:20250409T110000
DTSTAMP:20260421T170301
CREATED:20250403T163931Z
LAST-MODIFIED:20250403T163931Z
UID:10000945-1744189200-1744196400@landolakeswi.gov
SUMMARY:Library Board Meeting
DESCRIPTION:
URL:https://landolakeswi.gov/event/library-board-meeting-29/
END:VEVENT
BEGIN:VEVENT
DTSTART;TZID=America/Chicago:20250410T170000
DTEND;TZID=America/Chicago:20250410T190000
DTSTAMP:20260421T170301
CREATED:20230502T202014Z
LAST-MODIFIED:20230502T202014Z
UID:10000538-1744304400-1744311600@landolakeswi.gov
SUMMARY:American Legion Meeting
DESCRIPTION:
URL:https://landolakeswi.gov/event/american-legion-meeting/2025-04-10/
CATEGORIES:Event
END:VEVENT
BEGIN:VEVENT
DTSTART;TZID=America/Chicago:20250415T100000
DTEND;TZID=America/Chicago:20250415T110000
DTSTAMP:20260421T170301
CREATED:20250408T190438Z
LAST-MODIFIED:20250408T190438Z
UID:10000947-1744711200-1744714800@landolakeswi.gov
SUMMARY:Sanitary District Meeting
DESCRIPTION:
URL:https://landolakeswi.gov/event/sanitary-district-meeting-35/
END:VEVENT
BEGIN:VEVENT
DTSTART;TZID=America/Chicago:20250415T180000
DTEND;TZID=America/Chicago:20250415T190000
DTSTAMP:20260421T170301
CREATED:20250331T143640Z
LAST-MODIFIED:20250331T143640Z
UID:10000943-1744740000-1744743600@landolakeswi.gov
SUMMARY:Annual Town Meeting
DESCRIPTION:
URL:https://landolakeswi.gov/event/annual-town-meeting-5/
END:VEVENT
BEGIN:VEVENT
DTSTART;TZID=America/Chicago:20250416T180000
DTEND;TZID=America/Chicago:20250416T190000
DTSTAMP:20260421T170301
CREATED:20250414T193653Z
LAST-MODIFIED:20250414T193653Z
UID:10000948-1744826400-1744830000@landolakeswi.gov
SUMMARY:Town Board Meeting
DESCRIPTION:
URL:https://landolakeswi.gov/event/town-board-meeting-29/
END:VEVENT
END:VCALENDAR