BEGIN:VCALENDAR
VERSION:2.0
PRODID:-//Town of Land O&#039; Lakes - ECPv6.15.17.1//NONSGML v1.0//EN
CALSCALE:GREGORIAN
METHOD:PUBLISH
X-WR-CALNAME:Town of Land O&#039; Lakes
X-ORIGINAL-URL:https://landolakeswi.gov
X-WR-CALDESC:Events for Town of Land O&#039; Lakes
REFRESH-INTERVAL;VALUE=DURATION:PT1H
X-Robots-Tag:noindex
X-PUBLISHED-TTL:PT1H
BEGIN:VTIMEZONE
TZID:America/Chicago
BEGIN:DAYLIGHT
TZOFFSETFROM:-0600
TZOFFSETTO:-0500
TZNAME:CDT
DTSTART:20170312T080000
END:DAYLIGHT
BEGIN:STANDARD
TZOFFSETFROM:-0500
TZOFFSETTO:-0600
TZNAME:CST
DTSTART:20171105T070000
END:STANDARD
BEGIN:DAYLIGHT
TZOFFSETFROM:-0600
TZOFFSETTO:-0500
TZNAME:CDT
DTSTART:20180311T080000
END:DAYLIGHT
BEGIN:STANDARD
TZOFFSETFROM:-0500
TZOFFSETTO:-0600
TZNAME:CST
DTSTART:20181104T070000
END:STANDARD
BEGIN:DAYLIGHT
TZOFFSETFROM:-0600
TZOFFSETTO:-0500
TZNAME:CDT
DTSTART:20190310T080000
END:DAYLIGHT
BEGIN:STANDARD
TZOFFSETFROM:-0500
TZOFFSETTO:-0600
TZNAME:CST
DTSTART:20191103T070000
END:STANDARD
BEGIN:DAYLIGHT
TZOFFSETFROM:-0600
TZOFFSETTO:-0500
TZNAME:CDT
DTSTART:20200308T080000
END:DAYLIGHT
BEGIN:STANDARD
TZOFFSETFROM:-0500
TZOFFSETTO:-0600
TZNAME:CST
DTSTART:20201101T070000
END:STANDARD
BEGIN:DAYLIGHT
TZOFFSETFROM:-0600
TZOFFSETTO:-0500
TZNAME:CDT
DTSTART:20210314T080000
END:DAYLIGHT
BEGIN:STANDARD
TZOFFSETFROM:-0500
TZOFFSETTO:-0600
TZNAME:CST
DTSTART:20211107T070000
END:STANDARD
BEGIN:DAYLIGHT
TZOFFSETFROM:-0600
TZOFFSETTO:-0500
TZNAME:CDT
DTSTART:20220313T080000
END:DAYLIGHT
BEGIN:STANDARD
TZOFFSETFROM:-0500
TZOFFSETTO:-0600
TZNAME:CST
DTSTART:20221106T070000
END:STANDARD
END:VTIMEZONE
BEGIN:VEVENT
DTSTART;TZID=America/Chicago:20210714T110000
DTEND;TZID=America/Chicago:20210714T130000
DTSTAMP:20260419T212207
CREATED:20210513T164554Z
LAST-MODIFIED:20210513T164550Z
UID:10000579-1626260400-1626267600@landolakeswi.gov
SUMMARY:Open Book with Assessor
DESCRIPTION:Bowmar Appraisal will be available on July 14\, 2021 from 11am to 1pm at\nthe Land O’ Lakes Town Hall\, 4331 County Rd B.  The assessment roll will be open for\nexamination at this time and instruction materials will be provided to persons who wish to\nobject to valuations under 70.47 Wis Statutes.
URL:https://landolakeswi.gov/event/open-book-with-assessor/
LOCATION:Town Hall\, 4331 County Rd B\, Land O' Lakes
CATEGORIES:Event
END:VEVENT
BEGIN:VEVENT
DTSTART;VALUE=DATE:20201224
DTEND;VALUE=DATE:20201226
DTSTAMP:20260419T212207
CREATED:20161225T060000Z
LAST-MODIFIED:20201215T161436Z
UID:10000369-1608768000-1608940799@landolakeswi.gov
SUMMARY:Merry Christmas and Happy New Year!
DESCRIPTION:Have a Merry Christmas! \nTown Clerk-Treasurer office will be closed \nThursday and Friday\, December 24th & 25th\, 2020 and Friday\, January 1\, 2021 for the holidays.
URL:https://landolakeswi.gov/event/merry-christmas-and-happy-new-year/
LOCATION:Town Hall\, 4331 County Rd B\, Land O' Lakes
CATEGORIES:Clerk's Hours
END:VEVENT
BEGIN:VEVENT
DTSTART;TZID=America/Chicago:20181029T110000
DTEND;TZID=America/Chicago:20181029T170000
DTSTAMP:20260419T212207
CREATED:20180924T165545Z
LAST-MODIFIED:20180924T165545Z
UID:10000559-1540810800-1540832400@landolakeswi.gov
SUMMARY:Open Book with Assessors
DESCRIPTION:
URL:https://landolakeswi.gov/event/open-book-with-assessors-2/
LOCATION:Town Hall\, 4331 County Rd B\, Land O' Lakes
CATEGORIES:Event
END:VEVENT
END:VCALENDAR